Workbook

Sheet Hours
B2: 2022 Spring Semester
B3: Name (please cut/paste name as it appears here) | C3: Home Dept | D3: WSU Hrs | E3: Graduate Hrs | F3: SolBridge | G3: Total Hrs | H3: Contract Hrs | I3: Remark | J3: 2021.10.20
A4: 1 | B4: Muzaffarjon Ahunov | C4: GM | D4: =SUMIF(#REF!,B4,#REF!) + SUMIF(#REF!,B4,#REF!) + SUMIF(#REF!,B4,#REF!) -> #REF! | E4: =SUMIF(#REF!,B4,#REF!) -> #REF! | F4: =SUMIF(#REF!,B4,#REF!) -> #REF! | G4: =SUM(D4:F4) -> #REF!
A5: 2 | B5: Sheeba Rosaline John Asirvatham | C5: GM | D5: =SUMIF(#REF!,B5,#REF!) + SUMIF(#REF!,B5,#REF!) -> #REF! | E5: =SUMIF(#REF!,B5,#REF!) -> #REF! | F5: =SUMIF(#REF!,B5,#REF!) -> #REF! | G5: =SUM(D5:F5) -> #REF!
A6: 3 | B6: Umer Zaman | C6: GM | D6: =SUMIF(#REF!,B6,#REF!) + SUMIF(#REF!,B6,#REF!) -> #REF! | E6: =SUMIF(#REF!,B6,#REF!) -> #REF! | F6: =SUMIF(#REF!,B6,#REF!) -> #REF! | G6: =SUM(D6:F6) -> #REF!
A7: 4 | B7: Hasnan Baber | C7: GM | D7: =SUMIF(#REF!,B7,#REF!) + SUMIF(#REF!,B7,#REF!) -> #REF! | E7: =SUMIF(#REF!,B7,#REF!) -> #REF! | F7: =SUMIF(#REF!,B7,#REF!) -> #REF! | G7: =SUM(D7:F7) -> #REF!
A8: 5 | B8: Loughlin Sweeney | C8: Interdisciplinary | D8: =SUMIF(GE!H2:H101,B8,GE!E2:E101) -> 5 | E8: =SUMIF(#REF!,B8,#REF!) -> #REF! | F8: =SUMIF(#REF!,B8,#REF!) -> #REF! | G8: =SUM(D8:F8) -> #REF!
A9: 6 | B9: 구인혁 | C9: GM | D9: =SUMIF(#REF!,B9,#REF!) + SUMIF(#REF!,B9,#REF!) -> #REF! | E9: =SUMIF(#REF!,B9,#REF!) -> #REF! | F9: =SUMIF(#REF!,B9,#REF!) -> #REF! | G9: =SUM(D9:F9) -> #REF!
A10: 7 | B10: 노그림 | C10: GM | D10: =SUMIF(#REF!,B10,#REF!) + SUMIF(#REF!,B10,#REF!) -> #REF! | E10: =SUMIF(#REF!,B10,#REF!) -> #REF! | F10: =SUMIF(#REF!,B10,#REF!) -> #REF! | G10: =SUM(D10:E10) + F74 -> #REF! | I10: includes SB
A11: 8 | B11: 송지훈 | C11: GM | D11: =SUMIF(#REF!,B11,#REF!) + SUMIF(#REF!,B11,#REF!) + SUMIF(#REF!,B11,#REF!) + SUMIF(#REF!,B11,#REF!) -> #REF! | E11: =SUMIF(#REF!,B11,#REF!) -> #REF! | F11: =SUMIF(#REF!,B11,#REF!) -> #REF! | G11: =SUM(D11:F11) -> #REF!
A12: 9 | B12: 김봉균 | C12: Tech Studies | D12: =SUMIF(#REF!,B12,#REF!) + SUMIF(#REF!,B12,#REF!) + SUMIF(#REF!,B12,#REF!) -> #REF! | E12: =SUMIF(#REF!,B12,#REF!) -> #REF! | F12: =SUMIF(#REF!,B12,#REF!) -> #REF! | G12: =SUM(D12:F12) -> #REF!
A13: 10 | B13: Hasan Tinmaz | C13: Tech Studies | D13: =SUMIF(#REF!,B13,#REF!) + SUMIF(#REF!,B13,#REF!) + SUMIF(GE!H2:H95,B13,GE!E2:E95) -> #REF! | E13: =SUMIF(#REF!,B13,#REF!) -> #REF! | F13: =SUMIF(#REF!,B13,#REF!) -> #REF! | G13: =SUM(D13:F13) -> #REF!
A14: 11 | B14: Madhusudan singh | C14: Tech Studies | D14: =SUMIF(#REF!,B14,#REF!) -> #REF! | E14: =SUMIF(#REF!,B14,#REF!) -> #REF! | F14: =SUMIF(#REF!,B14,#REF!) -> #REF! | G14: =SUM(D14:F14) -> #REF! | H14: 6
A15: 12 | B15: Tumennast Erdenebold | C15: Tech Studies | D15: =SUMIF(#REF!,B15,#REF!) + SUMIF(#REF!,B15,#REF!) + SUMIF(#REF!,B15,#REF!) + SUMIF(#REF!,B15,#REF!) -> #REF! | E15: =SUMIF(#REF!,B15,#REF!) -> #REF! | F15: =SUMIF(#REF!,B15,#REF!) -> #REF! | G15: =SUM(D15:F15) -> #REF!
A16: 13 | B16: Preethi Ananthachari | C16: Tech Studies | D16: =SUMIF(#REF!,B16,#REF!) + SUMIF(#REF!,B16,#REF!) + SUMIF(#REF!,B16,#REF!) -> #REF! | E16: =SUMIF(#REF!,B16,#REF!) -> #REF! | F16: =SUMIF(#REF!,B16,#REF!) -> #REF! | G16: =SUM(D16:F16) -> #REF!
A17: 14 | B17: Jia Uddin | C17: Tech Studies | D17: =SUMIF(#REF!,B17,#REF!) + SUMIF(#REF!,B17,#REF!) + SUMIF(#REF!,B17,#REF!) + SUMIF(#REF!,B17,#REF!) -> #REF! | E17: =SUMIF(#REF!,B17,#REF!) -> #REF! | F17: =SUMIF(#REF!,B17,#REF!) -> #REF! | G17: =SUM(D17:F17) -> #REF!
A18: 16 | B18: Sreekanth Madisetty | C18: Tech Studies | D18: =SUMIF(#REF!,B18,#REF!) + SUMIF(#REF!,B18,#REF!) + SUMIF(#REF!,B18,#REF!) -> #REF! | E18: =SUMIF(#REF!,B18,#REF!) -> #REF! | F18: =SUMIF(#REF!,B18,#REF!) -> #REF! | G18: =SUM(D18:F18) -> #REF!
A19: 17 | B19: Naveen Saini | C19: Tech Studies | D19: =SUMIF(#REF!,B19,#REF!) + SUMIF(#REF!,B19,#REF!) + SUMIF(#REF!,B19,#REF!) -> #REF! | E19: =SUMIF(#REF!,B19,#REF!) -> #REF! | F19: =SUMIF(#REF!,B19,#REF!) -> #REF! | G19: =SUM(D19:F19) -> #REF!
A20: 18 | B20: Wang Yan | C20: Tech Studies | D20: =SUMIF(#REF!,B20,#REF!) + SUMIF(#REF!,B20,#REF!) + SUMIF(#REF!,B20,#REF!) -> #REF! | E20: =SUMIF(#REF!,B20,#REF!) -> #REF! | F20: =SUMIF(#REF!,B20,#REF!) -> #REF! | G20: =SUM(D20:F20) -> #REF!
A21: 19 | B21: 김영준 | C21: Tech Studies | D21: =SUMIF(#REF!,B21,#REF!) -> #REF! | E21: =SUMIF(#REF!,B21,#REF!) -> #REF! | F21: =SUMIF(#REF!,B21,#REF!) -> #REF! | G21: =SUM(D21:F21) -> #REF!
A22: 20 | B22: 김영일 | C22: Tech Studies | D22: =SUMIF(#REF!,B22,#REF!) -> #REF! | E22: =SUMIF(#REF!,C22,#REF!) -> #REF! | F22: =SUMIF(#REF!,D22,#REF!) -> #REF! | G22: =SUM(D22:F22) -> #REF!
A23: 21 | B23: 박성우 | C23: SIMA | D23: =SUMIF(#REF!,B23,#REF!) -> #REF! | E23: =SUMIF(#REF!,B23,#REF!) -> #REF! | F23: =SUMIF(#REF!,B23,#REF!) -> #REF! | G23: =SUM(D23:F23) -> #REF!
A24: 22 | B24: 박수지 | C24: SIMA (Instructor) | D24: =SUMIF(#REF!,B24,#REF!) -> #REF! | E24: =SUMIF(#REF!,B24,#REF!) -> #REF! | F24: =SUMIF(#REF!,B24,#REF!) -> #REF! | G24: =SUM(D24:F24) -> #REF!
A25: 23 | B25: 박준영 | C25: SIMA (Instructor) | D25: =SUMIF(#REF!,B25,#REF!) -> #REF! | E25: =SUMIF(#REF!,B25,#REF!) -> #REF! | F25: =SUMIF(#REF!,B25,#REF!) -> #REF! | G25: =SUM(D25:F25) -> #REF!
A26: 24 | B26: 이해원 | C26: SIMA (Instructor) | D26: =SUMIF(#REF!,B26,#REF!) -> #REF! | E26: =SUMIF(#REF!,B26,#REF!) -> #REF! | F26: =SUMIF(#REF!,B26,#REF!) -> #REF! | G26: =SUM(D26:F26) -> #REF!
A27: 26 | B27: Albith Rene Delgado Lopez | C27: SIMA | D27: =SUMIF(#REF!,B27,#REF!) -> #REF! | E27: =SUMIF(#REF!,B27,#REF!) -> #REF! | F27: =SUMIF(#REF!,B27,#REF!) -> #REF! | G27: =SUM(D27:F27) -> #REF!
A28: 27 | B28: Anura Amarasena | C28: SIRA | D28: =SUMIF(#REF!,B28,#REF!) -> #REF! | E28: =SUMIF(#REF!,B28,#REF!) -> #REF! | F28: =SUMIF(#REF!,B28,#REF!) -> #REF! | G28: =SUM(D28:F28) -> #REF!
A29: 28 | B29: Richard Fuchs | C29: SIRA | D29: =SUMIF(#REF!,B29,#REF!) + SUMIF(#REF!,B29,#REF!) -> #REF! | E29: =SUMIF(#REF!,B29,#REF!) -> #REF! | F29: =SUMIF(#REF!,B29,#REF!) -> #REF! | G29: =SUM(D29:F29) -> #REF! | I29: 12 max
A30: 30 | B30: 안태봉 | C30: SIRA | D30: =SUMIF(#REF!,B30,#REF!) -> #REF! | E30: =SUMIF(#REF!,B30,#REF!) -> #REF! | F30: =SUMIF(#REF!,B30,#REF!) -> #REF! | G30: =SUM(D30:F30) -> #REF!
A31: 31 | B31: Lee Jin Hwa | C31: SIMED | D31: =SUMIF(#REF!,B31,#REF!) -> #REF! | E31: =SUMIF(#REF!,B31,#REF!) -> #REF! | F31: =SUMIF(#REF!,B31,#REF!) -> #REF! | G31: =SUM(D31:F31) -> #REF!
A32: 32 | B32: Allison Kim | C32: SIMED | D32: =SUMIF(#REF!,B32,#REF!) -> #REF! | E32: =SUMIF(#REF!,B32,#REF!) -> #REF! | F32: =SUMIF(#REF!,B32,#REF!) -> #REF! | G32: =SUM(D32:F32) -> #REF!
A33: 33 | B33: Mae Joy Espinosa | C33: SIMED | D33: =SUMIF(#REF!,B33,#REF!) -> #REF! | E33: =SUMIF(#REF!,B33,#REF!) -> #REF! | F33: =SUMIF(#REF!,B33,#REF!) -> #REF! | G33: =SUM(D33:F33) -> #REF!
A34: 34 | B34: Alaa Nimer Mousa Abukhalifeh | C34: SIHOM | D34: =SUMIF(#REF!,B34,#REF!) -> #REF! | E34: =SUMIF(#REF!,B34,#REF!) -> #REF! | F34: =SUMIF(#REF!,B34,#REF!) -> #REF! | G34: =SUM(D34:F34) -> #REF!
A35: 36 | B35: 최대우 | C35: SIHOM | D35: =SUMIF(#REF!,B35,#REF!) + SUMIF(GE!H2:H191,B35,GE!E2:E191) -> #REF! | E35: =SUMIF(#REF!,B35,#REF!) -> #REF! | F35: =SUMIF(#REF!,B35,#REF!) -> #REF! | G35: =SUM(D35:F35) -> #REF!
A36: 37 | B36: Nadezda Sorokina | C36: SIHOM | D36: =SUMIF(#REF!,B36,#REF!) + SUMIF(GE!H2:H151,B36,GE!E2:E151) -> #REF! | E36: =SUMIF(#REF!,B36,#REF!) -> #REF! | F36: =SUMIF(#REF!,B36,#REF!) -> #REF! | G36: =SUM(D36:F36) -> #REF!
A37: 38 | B37: Eka Diraksa Putra | C37: SIHOM | D37: =SUMIF(#REF!,B37,#REF!) -> #REF! | E37: =SUMIF(#REF!,B37,#REF!) -> #REF! | F37: =SUMIF(#REF!,B37,#REF!) -> #REF! | G37: =SUM(D37:F37) -> #REF!
A38: 39 | B38: Zhao sophie Ywe | C38: SIHOM | D38: =SUMIF(#REF!,B38,#REF!) -> #REF! | E38: =SUMIF(#REF!,B38,#REF!) -> #REF! | F38: =SUMIF(#REF!,B38,#REF!) -> #REF! | G38: =SUM(D38:F38) -> #REF!
A39: 40 | B39: Min Joo Leutwiler Lee | C39: SIHOM | D39: =SUMIF(#REF!,B39,#REF!) -> #REF! | E39: =SUMIF(#REF!,B39,#REF!) -> #REF! | F39: =SUMIF(#REF!,B39,#REF!) -> #REF! | G39: =SUM(D39:F39) -> #REF!
A40: 41 | B40: Thomas Pratt | C40: SIHOM | D40: =SUMIF(#REF!,B40,#REF!) -> #REF! | E40: =SUMIF(#REF!,B40,#REF!) -> #REF! | F40: =SUMIF(#REF!,B40,#REF!) -> #REF! | G40: =SUM(D40:F40) -> #REF!
A41: 42 | B41: Saul Serna | C41: SIHOM | D41: =SUMIF(#REF!,B41,#REF!) + SUMIF(#REF!,B41,#REF!) + SUMIF(GE!H2:H151,B41,GE!E2:E151) -> #REF! | E41: =SUMIF(#REF!,B41,#REF!) -> #REF! | F41: =SUMIF(#REF!,B41,#REF!) -> #REF! | G41: =SUM(D41:F41) -> #REF!
A42: 43 | B42: Bipithalal Balakrishnan Nair | C42: SIHOM | D42: =SUMIF(#REF!,B42,#REF!) + SUMIF(GE!H2:H191,B42,GE!E2:E191) -> #REF! | E42: =SUMIF(#REF!,B42,#REF!) -> #REF! | F42: =SUMIF(#REF!,B42,#REF!) -> #REF! | G42: =SUM(D42:F42) -> #REF!
A43: 44 | B43: 정젤나 | C43: SIHOM | D43: =SUMIF(#REF!,B43,#REF!) -> #REF! | E43: =SUMIF(#REF!,B43,#REF!) -> #REF! | F43: =SUMIF(#REF!,B43,#REF!) -> #REF! | G43: =SUM(D43:F43) -> #REF!
A44: 45 | B44: Raweewan Proyrungroj | C44: SIHOM | D44: =SUMIF(#REF!,B44,#REF!) + SUMIF(GE!H2:H191,B44,GE!E2:E191) -> #REF! | E44: =SUMIF(#REF!,B44,#REF!) -> #REF! | F44: =SUMIF(#REF!,B44,#REF!) -> #REF! | G44: =SUM(D44:F44) -> #REF!
A45: 46 | B45: 김민정 | C45: GE | D45: =SUMIF(GE!H2:H195,B45,GE!E2:E195) -> 12 | F45: =SUMIF(#REF!,B45,#REF!) -> #REF! | G45: =SUM(D45:F45) -> #REF!
A46: 47 | B46: Laura Koonce | C46: RIEP | D46: =SUMIF(GE!H2:H95,B46,GE!E2:E95) -> 14 | G46: =SUM(D46:F46) -> 14 | I46: plus 6 RIEP
A47: 48 | B47: Ines Mzali | C47: GE | D47: =SUMIF(GE!H2:H95,B47,GE!E2:E95) -> 0 | F47: =SUMIF(#REF!,B47,#REF!) -> #REF! | G47: =SUM(D47:F47) -> #REF!
A48: 49 | B48: Eric Cebreiro | C48: GE | D48: =SUMIF(#REF!,B48,#REF!) + SUMIF(GE!H2:H95,B48,GE!E2:E95) -> #REF! | G48: =SUM(D48:F48) -> #REF!
A49: 50 | B49: Katherine DeSau | C49: GE | D49: =SUMIF(GE!H2:H95,B49,GE!E2:E95) -> 5 | G49: =SUM(D49:F49) -> 5
A50: 51 | B50: Alastair Brewer | C50: GE | D50: =SUMIF(GE!H2:H95,B50,GE!E2:E95) -> 3 | G50: =SUM(D50:F50) -> 3
A51: 52 | B51: Beverlee Barnet | C51: RIEP | D51: =SUMIF(GE!H2:H95,B51,GE!E2:E95) -> 14 | G51: =SUM(D51:F51) -> 14 | I51: plus 6 RIEP
A52: 53 | B52: Eric Warner | C52: RIEP | D52: =SUMIF(GE!H2:H95,B52,GE!E2:E95) -> 14 | G52: =SUM(D52:F52) -> 14 | I52: plus 6 RIEP
A53: 54 | B53: Ryan Kozbial | C53: RIEP | D53: =SUMIF(GE!H2:H95,B53,GE!E2:E95) -> 14 | G53: =SUM(D53:F53) -> 14 | I53: plus 6 RIEP
A54: 55 | B54: Sunsook Han | C54: RIEP | D54: =SUMIF(GE!H2:H95,B54,GE!E2:E95) -> 14 | G54: =SUM(D54:F54) -> 14 | I54: plus 6 RIEP
A55: 56 | B55: Aiden Don | C55: GE | D55: =SUMIF(GE!H2:H95,B55,GE!E2:E95) + SUMIF(#REF!,B55,#REF!) -> #REF! | G55: =SUM(D55:F55) -> #REF!
A56: 57 | B56: Daniel Cicone | C56: GE | D56: =SUMIF(#REF!,B56,#REF!) + SUMIF(GE!H2:H95,B56,GE!E2:E95) -> #REF! | G56: =SUM(D56:F56) -> #REF!
A57: 58 | B57: Ahna Soo Otterstad | C57: RIEP | D57: =SUMIF(GE!H2:H95,B57,GE!E2:E95) -> 14 | G57: =SUM(D57:F57) -> 14 | I57: plus 6 RIEP
A58: 59 | B58: Collin Cook | C58: RIEP | D58: =SUMIF(GE!H2:H95,B58,GE!E2:E95) -> 14 | G58: =SUM(D58:F58) -> 14 | I58: plus 6 RIEP
A59: 60 | B59: Janice Lee | C59: RIEP Coord | D59: =SUMIF(GE!H2:H95,B59,GE!E2:E95) -> 8 | G59: =SUM(D59:F59) -> 8 | H59: 9
A60: 61 | B60: James Danielsen | C60: JCFS Coord | D60: =SUMIF(GE!H2:H101,B60,GE!E2:E101) + SUMIF(#REF!,B60,#REF!) -> #REF! | G60: =SUM(D60:F60) -> #REF! | H60: 9
A61: 62 | B61: Matthew Barnard | C61: IAC Coord | D61: =SUMIF(GE!H2:H95,B61,GE!E2:E95) -> 2 | G61: =SUM(D61:F61) -> 2 | H61: 9
A62: 63 | B62: Joseph Chon | C62: IAC | D62: =SUMIF(GE!H2:H95,B62,GE!E2:E95) -> 3 | G62: =SUM(D62:F62) -> 3 | H62: 3
A63: 64 | B63: Alemu Aye Mengistu | C63: SolBridge | F63: =SUMIF(#REF!,B63,#REF!) -> #REF! | G63: =SUM(D63:F63) -> #REF!
A64: 65 | B64: ByungIk Jung | C64: SolBridge | F64: =SUMIF(#REF!,B64,#REF!) -> #REF! | G64: =SUM(D64:F64) -> #REF!
A65: 66 | B65: Chang Joon Choi | C65: SolBridge | F65: =SUMIF(#REF!,B65,#REF!) -> #REF! | G65: =SUM(D65:F65) -> #REF!
A66: 67 | B66: Chia Hsing Huang | C66: SolBridge | F66: =SUMIF(#REF!,B66,#REF!) -> #REF! | G66: =SUM(D66:F66) -> #REF!
A67: 68 | B67: Daniel Corks | C67: WLI | F67: =SUMIF(#REF!,B67,#REF!) -> #REF! | G67: =SUM(D67:F67) -> #REF!
A68: 69 | B68: Danielle Swanepoel | C68: WLI | F68: =SUMIF(#REF!,B68,#REF!) -> #REF! | G68: =SUM(D68:F68) -> #REF!
A69: 70 | B69: Dongcheol Kim | C69: SolBridge | F69: =SUMIF(#REF!,B69,#REF!) -> #REF! | G69: =SUM(D69:F69) -> #REF!
A70: 71 | B70: Edwin Satiawan Sanusi | C70: SolBridge | F70: =SUMIF(#REF!,B70,#REF!) -> #REF! | G70: =SUM(D70:F70) -> #REF!
A71: 72 | B71: Elizabeth Christensen | C71: WLI | F71: =SUMIF(#REF!,B71,#REF!) -> #REF! | G71: =SUM(D71:F71) -> #REF!
A72: 73 | B72: Erin McVay | F72: =SUMIF(#REF!,B72,#REF!) -> #REF! | G72: =SUM(D72:F72) -> #REF!
A73: 74 | B73: Gilhong Kim | C73: Visiting (SB) | F73: =SUMIF(#REF!,B73,#REF!) -> #REF! | G73: =SUM(D73:F73) -> #REF!
A74: 75 | B74: Grimm Noh | C74: ECIS | F74: =SUMIF(#REF!,B74,#REF!) -> #REF! | G74: =SUM(D74:F74) -> #REF! | I74: Counted above
A75: 76 | B75: Han Choong Min | C75: SolBridge | F75: =SUMIF(#REF!,B75,#REF!) -> #REF! | G75: =SUM(D75:F75) -> #REF!
A76: 77 | B76: YooGyeom Oh | C76: Visiting (SB) | F76: =SUMIF(#REF!,B76,#REF!) -> #REF! | G76: =SUM(D76:F76) -> #REF!
A77: 78 | B77: Harold Y. Shim | C77: Visiting (SB) | F77: =SUMIF(#REF!,B77,#REF!) -> #REF! | G77: =SUM(D77:F77) -> #REF!
A78: 79 | B78: Hyeon Park | C78: Visiting (SB) | F78: =SUMIF(#REF!,B78,#REF!) -> #REF! | G78: =SUM(D78:F78) -> #REF!
A79: 80 | B79: Hyojin Nam | C79: SolBridge | F79: =SUMIF(#REF!,B79,#REF!) -> #REF! | G79: =SUM(D79:F79) -> #REF!
A80: 81 | B80: James Quinn | C80: WLI | F80: =SUMIF(#REF!,B80,#REF!) -> #REF! | G80: =SUM(D80:F80) -> #REF!
A81: 82 | B81: Janine Kock | C81: WLI | F81: =SUMIF(#REF!,B81,#REF!) -> #REF! | G81: =SUM(D81:F81) -> #REF!
A82: 83 | B82: Jeffrey Miller | C82: WLI | F82: =SUMIF(#REF!,B82,#REF!) -> #REF! | G82: =SUM(D82:F82) -> #REF!
A83: 84 | B83: Jinseob Oh | C83: Visiting (SB) | F83: =SUMIF(#REF!,B83,#REF!) -> #REF! | G83: =SUM(D83:F83) -> #REF!
A84: 85 | B84: John Riley | C84: WLI | F84: =SUMIF(#REF!,B84,#REF!) -> #REF! | G84: =SUM(D84:F84) -> #REF!
A85: 86 | B85: Joon Ki Han | C85: SolBridge | F85: =SUMIF(#REF!,B85,#REF!) -> #REF! | G85: =SUM(D85:F85) -> #REF!
A86: 87 | B86: Joshua Park | C86: SolBridge | F86: =SUMIF(#REF!,B86,#REF!) -> #REF! | G86: =SUM(D86:F86) -> #REF!
... A89: 90 | B89: Kushal Sharma | C89: WLI | F89: =SUMIF(#REF!,B89,#REF!) -> #REF! | G89: =SUM(D89:F89) -> #REF!
A90: 91 | B90: Kwame Agyei-Mensah (Ben) | C90: SolBridge | D90: =SUMIF(#REF!,B90,#REF!) -> #REF! | F90: =SUMIF(#REF!,B90,#REF!) -> #REF! | G90: =SUM(D90:F90) -> #REF!
A91: 92 | B91: Kwanhee Yoo | C91: Visiting (SB) | F91: =SUMIF(#REF!,B91,#REF!) -> #REF! | G91: =SUM(D91:F91) -> #REF!
A92: 93 | B92: KyungAe Kim | C92: Visiting (SB) | F92: =SUMIF(#REF!,B92,#REF!) -> #REF! | G92: =SUM(D92:F92) -> #REF!
A93: 94 | B93: KyunHwa Kim | C93: SolBridge | F93: =SUMIF(#REF!,B93,#REF!) -> #REF! | G93: =SUM(D93:F93) -> #REF!
A94: 95 | B94: Meng Xiangcai | C94: SolBridge | F94: =SUMIF(#REF!,B94,#REF!) -> #REF! | G94: =SUM(D94:F94) -> #REF!
A95: 96 | B95: Min Kyoung Kim | C95: Visiting (SB) | F95: =SUMIF(#REF!,B95,#REF!) -> #REF! | G95: =SUM(D95:F95) -> #REF!
A96: 97 | B96: Nurmakhammad Yusupov | C96: SolBridge | F96: =SUMIF(#REF!,B96,#REF!) -> #REF! | G96: =SUM(D96:F96) -> #REF!
A97: 98 | B97: Park Hyun | C97: Visiting (SB) | F97: =SUMIF(#REF!,B97,#REF!) -> #REF! | G97: =SUM(D97:F97) -> #REF!
A98: 99 | B98: Patricia Ninnis | C98: WLI | F98: =SUMIF(#REF!,B98,#REF!) -> #REF! | G98: =SUM(D98:F98) -> #REF!
A99: 100 | B99: Paul Wohlfarth | C99: WLI | F99: =SUMIF(#REF!,B99,#REF!) -> #REF! | G99: =SUM(D99:F99) -> #REF!
A100: 101 | B100: Roger Royo | C100: SolBridge | F100: =SUMIF(#REF!,B100,#REF!) -> #REF! | G100: =SUM(D100:F100) -> #REF!
A101: 102 | B101: Sang-woo Shin | C101: SolBridge | F101: =SUMIF(#REF!,B101,#REF!) -> #REF! | G101: =SUM(D101:F101) -> #REF!
A102: 103 | B102: Shijith Kumar PM | C102: SolBridge | F102: =SUMIF(#REF!,B102,#REF!) -> #REF! | G102: =SUM(D102:F102) -> #REF!
... A107: 108 | B107: Tom Cecil | C107: WLI | F107: =SUMIF(#REF!,B107,#REF!) -> #REF! | G107: =SUM(D107:F107) -> #REF!
...

Sheet GE
A1: // | B1: Target Yr | C1: Course | D1: Cr | E1: Hr | F1: Type(Core) | G1: Section | H1: Prof | I1: Room | J1: Schedule | K1: Remark | L1: 인원수
A2: GE | B2: 1 | C2: Sol Vision | D2: 2 | E2: 2 | F2: GR(1) | G2: 001 | H2: Beverlee Barnet | I2: S1 502 | J2: Fri 10:00~12:00
A3: GE | B3: 1 | C3: Sol Vision | D3: 2 | E3: 2 | F3: GR(1) | G3: 002 | H3: Eric Warner | I3: S1 508 | J3: Fri 10:00~12:00
A4: GE | B4: 1 | C4: Sol Vision | D4: 2 | E4: 2 | F4: GR(1) | G4: 003 | H4: Laura Koonce | I4: W16 402 | J4: Fri 10:00~12:00
A5: GE | B5: 1 | C5: Sol Vision | D5: 2 | E5: 2 | F5: GR(1) | G5: 004 | H5: Ryan Kozbial | I5: W16 406 | J5: Fri 10:00~12:00
A6: GE | B6: 1 | C6: Sol Vision | D6: 2 | E6: 2 | F6: GR(1) | G6: 005 | H6: Sunsook Han | I6: W16 502 | J6: Fri 10:00~12:00 | M6: 1학년: Sol Vision (2) + RIEP/GE (8) = 10학점 2학년: SW 기초 (3) + 분,사,글 심화 (2) = 5학점 3학년: 분석,사회,인문적(3+2) =5학점 4학년: 자유선택 5학점
A7: GE | B7: 1 | C7: Sol Vision | D7: 2 | E7: 2 | F7: GR(1) | G7: 006 | H7: Collin Cook | I7: W16 505 | J7: Fri 10:00~12:00
A8: GE | B8: 1 | C8: Sol Vision | D8: 2 | E8: 2 | F8: GR(1) | G8: 007 | H8: Ahna Soo Otterstad | I8: W12 102 | J8: Fri 10:00~12:00
A9: GE | B9: 1 | C9: Sol Vision | D9: 2 | E9: 2 | F9: GR(1) | G9: 008 | H9: Janice Lee | I9: W12 103 | J9: Fri 10:00~12:00
A10: GE | B10: 1 | C10: Sol Vision | D10: 2 | E10: 2 | F10: GR(1) | G10: 009 | H10: Mihae Mary Nahm | I10: W12 105 | J10: Fri 10:00~12:00
A11: GE | B11: 1 | C11: Sol Vision | D11: 2 | E11: 2 | F11: GR(1) | G11: 010 | H11: Daniel McCracken | I11: W12 502 | J11: Fri 10:00~12:00
A12: GE | B12: 1 | C12: Sol Vision | D12: 2 | E12: 2 | F12: GR(1) | G12: 011 | H12: Eric Cebreiro | I12: W19 105 | J12: Fri 10:00~12:00 | K12: (외국인 대상 분반)
A13: GE | B13: 1 | C13: Sol-Intensive Reading | D13: 2 | E13: 3 | F13: GR(2) | G13: 001 | H13: 김동미 | I13: S1 502 | J13: Mon/Wed 13:00~14:30
A14: GE | B14: 1 | C14: Sol-Intensive Reading | D14: 2 | E14: 3 | F14: GR(2) | G14: 002 | H14: 이선영 | I14: S1 508 | J14: Mon/Wed 13:00~14:30
A15: GE | B15: 1 | C15: Sol-Intensive Reading | D15: 2 | E15: 3 | F15: GR(2) | G15: 003 | H15: 김민정 | I15: W16 402 | J15: Mon/Wed 13:00~14:30
A16: GE | B16: 1 | C16: Sol-Intensive Reading | D16: 2 | E16: 3 | F16: GR(2) | G16: 004 | H16: 이인훈 | I16: W16 406 | J16: Mon/Wed 13:00~14:30
A17: GE | B17: 1 | C17: Sol-Intensive Reading | D17: 2 | E17: 3 | F17: GR(2) | G17: 005 | H17: 김희진 | I17: W16 502 | J17: Mon/Wed 13:00~14:30
A18: GE | B18: 1 | C18: Sol-Intensive Reading | D18: 2 | E18: 3 | F18: GR(2) | G18: 006 | H18: 김동미 (미정) | I18: W16 202 | J18: Tue/Thu 16:30~18:00
A19: GE | B19: 1 | C19: Sol-Intensive Reading | D19: 2 | E19: 3 | F19: GR(2) | G19: 007 | H19: 김민정 | I19: W12 102 | J19: Tue/Thu 16:30~18:00
A20: GE | B20: 1 | C20: Sol-Intensive Reading | D20: 2 | E20: 3 | F20: GR(2) | G20: 008 | H20: 김희진 | I20: W12 103 | J20: Tue/Thu 16:30~18:00
A21: GE | B21: 1 | C21: Sol-Intensive Reading | D21: 2 | E21: 3 | F21: GR(2) | G21: 009 | H21: 박소현 | I21: W12 105 | J21: Tue/Thu 16:30~18:00
A22: GE | B22: 1 | C22: Sol-Intensive Reading | D22: 2 | E22: 3 | F22: GR(2) | G22: 010 | H22: 강수영 | I22: W16 201 | J22: Tue/Thu 16:30~18:00
A23: GE | B23: 1 | C23: Sol-Intensive Writing | D23: 2 | E23: 3 | F23: GR(2) | G23: 001 | H23: Collin Cook | I23: S1 501 | J23: Mon/Wed 16:30~18:00
A24: GE | B24: 1 | C24: Sol-Intensive Writing | D24: 2 | E24: 3 | F24: GR(2) | G24: 002 | H24: Ahna Soo Otterstad | I24: S1 502 | J24: Mon/Wed 16:30~18:00
... A62: GE | B62: 1 | C62: Sol-Intensive Communication | D62: 2 | E62: 3 | F62: GR(2) | G62: 015 | H62: Collin Cook | I62: S1 210 | J62: Mon/Wed 13:00~14:30
A63: GE | B63: 1 | C63: Basic Korean 1 | D63: 2 | E63: 2 | F63: GR(2) | G63: 001 | H63: 최대우 | I63: W16 202 | J63: Tu 13:00~15:00 | K63: (외국인 대상 분반)
A64: GE | B64: 1 | C64: Basic Korean 2 | D64: 3 | E64: 3 | F64: GR(2) | G64: 001 | H64: 이지은 | I64: W19 106 | J64: Tu 13:00~16:00 | K64: (외국인 대상 분반)
A65: GE | B65: 1 | C65: Basic Academic Writing | D65: 3 | E65: 3 | F65: GR(2) | G65: 001 | H65: Alastair Brewer | I65: W19 106 | J65: Mon 14:00~17:00 | K65: (외국인 대상 분반)
A66: GE | B66: 1 | C66: Advanced Reading Skills | D66: 3 | E66: 3 | F66: GR(2) | G66: 001 | H66: Eric Cebreiro | I66: W19 106 | J66: Wed 14:00~17:00 | K66: (외국인 대상 분반)
A67: GE | B67: 2 | C67: Advanced Writing | D67: 2 | E67: 2 | F67: GE(3) | G67: 001 | H67: Aiden Don | I67: E11 204 | J67: Mon 17:00~19:00
A68: GE | B68: 2 | C68: Advanced Writing | D68: 2 | E68: 2 | F68: GE(3) | G68: 002 | H68: Eric Cebreiro | I68: W16 502 | J68: Wed 10:00~12:00
A69: GE | B69: 2 | C69: Advanced Writing | D69: 2 | E69: 2 | F69: GE(3) | G69: 003 | H69: Daniel Cicone | I69: W16 502 | J69: Tu 10:00~12:00
A70: GE | B70: 2 | C70: Global Workplace | D70: 2 | E70: 2 | F70: GE(3) | G70: 001 | H70: Mihae Mary Nahm | I70: E11 203 | J70: Mon 17:00~19:00
A71: GE | B71: 2 | C71: Global Workplace | D71: 2 | E71: 2 | F71: GE(3) | G71: 002 | H71: Aiden Don | I71: W16 502 | J71: Mon 09:00~11:00
A72: GE | B72: 2 | C72: Global Workplace | D72: 2 | E72: 2 | F72: GE(3) | G72: 003 | H72: Katherine DeSau | I72: W16 502 | J72: Thur 09:00~11:00
A73: GE | B73: 2 | C73: Technology in Life | D73: 2 | E73: 2 | F73: GE(4) | G73: 001 | H73: Saul Serna | I73: W16 505 | J73: Wed 09:00~11:00
A74: GE | B74: 2 | C74: Cultivating Markets | D74: 2 | E74: 2 | F74: GE(5) | G74: 001 | H74: Raweewan Proyrungroj | I74: W16 505 | J74: Thur 10:00~12:00
A75: GE | B75: 2 | C75: Economics of Business | D75: 2 | E75: 2 | F75: GE(5) | G75: 001 | H75: Nadezda Sorokina | I75: W16 505 | J75: Mon 10:00~12:00
A76: GE | B76: 2 | C76: Growing a Team | D76: 2 | E76: 2 | F76: GE(5) | G76: 001 | H76: Bipithalal Balakrishnan Nair | I76: W19 110 | J76: Mon 09:00~11:00
A77: GE | B77: 2 | C77: Growing a Team | D77: 2 | E77: 2 | F77: GE(5) | G77: 002 | H77: Mihae Mary Nahm | I77: W19 103 | J77: Wed 09:00~11:00
A78: GE | B78: 3,4 | C78: Introduction to Biology | D78: 3 | E78: 3 | F78: GE(4) | G78: 001 | H78: Sam Kang | I78: W16 501-2 | J78: Mon 15:00~18:00
A79: GE | B79: 3,4 | C79: Introduction to Earth Science | D79: 2 | E79: 2 | F79: GE(4) | G79: 001 | H79: Kishor Sulathakumari Chandran | I79: W16 404-1 | J79: Mon 16:00~18:00
A80: GE | B80: 3,4 | C80: Introduction to Political Science | D80: 3 | E80: 3 | F80: GE(5) | G80: 001 | H80: Saul Serna | I80: W19 108 | J80: Mon 16:00~17:30/ Wed 16:00~17:30
A81: GE | B81: 3,4 | C81: Introduction to Political Science | D81: 3 | E81: 3 | F81: GE(5) | G81: 002 | H81: James Danielsen | I81: W19 106 | J81: Tu 16:00~17:30/ Thur 16:00~17:30
A82: GE | B82: 3,4 | C82: Introduction to Psychology | D82: 2 | E82: 2 | F82: GE(5) | G82: 001 | H82: Kishor Sulathakumari Chandran | I82: W16 404-1 | J82: Thur 16:00~18:00
A83: GE | B83: 3,4 | C83: Introduction to Sociology | D83: 2 | E83: 2 | F83: GE(5) | G83: 001 | H83: Aiden Don | I83: W16 404-1 | J83: Wed 16:00~18:00
A84: GE | B84: 3,4 | C84: Introduction to International Realations | D84: 3 | E84: 3 | F84: GE(5) | G84: 001 | H84: Daniel Cicone | I84: W19 105 | J84: Mon 16:00~17:30/ Wed 16:00~17:30
A85: GE | B85: 3,4 | C85: Introduction to International Realations | D85: 3 | E85: 3 | F85: GE(5) | G85: 002 | H85: Daniel Cicone | I85: W19 105 | J85: Tu 16:00~17:30/ Thur 16:00~17:30
A86: GE | B86: 3,4 | C86: Aisan & European History Comparison | D86: 3 | E86: 3 | F86: GE(6) | G86: 001 | H86: Loughlin Sweeney | I86: E11 201 | J86: Mon 16:00~17:30/ Wed 16:00~17:30
A87: GE | B87: 3,4 | C87: History of Fine Arts | D87: 2 | E87: 2 | F87: GE(6) | G87: 001 | H87: Elizabeth White | I87: W19 110 | J87: Tu 16:00~18:00
A88: GE | B88: 3,4 | C88: Introduction to Literature | D88: 3 | E88: 3 | F88: GE(6) | G88: 001 | H88: Katherine DeSau | I88: W19 109 | J88: Tu 16:00~17:30/ Thur 16:00~17:30
A89: GE | B89: 3,4 | C89: World History | D89: 2 | E89: 2 | F89: GE(6) | G89: 001 | H89: Loughlin Sweeney | I89: W16 404-1 | J89: Tu 16:00~18:00
A90: GE | B90: 3,4 | C90: World History | D90: 2 | E90: 2 | F90: GE(6) | G90: 002 | H90: Matthew Barnard | I90: W16 501-1 | J90: Wed 16:00~18:00
A91: GE | B91: 3.4 | C91: Introduction to Linguistics | D91: 3 | E91: 3 | F91: GE(6) | G91: 001 | H91: Joseph Chon | I91: W19 110 | J91: Mon 16:00~17:30/ Wed 16:00~17:30
A92: GE
A93: GE
A94: GE
A95: GE
A96: GE
A97: GE
A98: GE
A99: GE
A100: GE
A101: GE
A102: GE
A103: GE
... A144: GE
